BEGIN:VCALENDAR
VERSION:2.0
CALSCALE:GREGORIAN
PRODID:adamgibbons/ics
METHOD:PUBLISH
X-PUBLISHED-TTL:PT1H
BEGIN:VEVENT
UID:7751@eventos.coletivos.org
SUMMARY:1° de Maio Antiautoritário
DTSTAMP:20260424T022715Z
DTSTART:20260501T140000Z
DTEND:20260501T230000Z
DESCRIPTION:No dia 1 de Maio ocupamos as ruas num dia de memória e luta. Ne
	stes tempos de\nguerra permanente propomos um 1º de Maio anarquista\, tran
	sfeminista\,\nantirracista e anti-imperialista. Um 1º de Maio que inclua q
	uem é empurrado para\nas margens: a comunidade queer\, as trabalhadoras mi
	grantes\, racializadas e\nprecarizadas\, as trabalhadoras sexuais e as pes
	soas presas forçadas a trabalhar\nem condições de escravatura. Porque a so
	ciedade do trabalho é patriarcal\,\ncapacitista e extrativista\, valoriza 
	a produtividade acima da vida e transforma\ncorpos em recurso.\n\nRecupere
	mos as nossas vidas!\n\nManifestação: 1 de maio às 15h no Largo de Camões.
	\n\nManifesto para um 1° de Maio Antiautoritário: https://tinyurl.com/1mai
	o2026\n[https://tinyurl.com/1maio2026]
URL:https://eventos.coletivos.org/event/1degree-de-maio-antiautoritario-1
LOCATION:Largo Camões - Largo Camões\, Lisboa
STATUS:CONFIRMED
CATEGORIES:
X-ALT-DESC;FMTTYPE=text/html:<p><strong>No dia 1 de Maio ocupamos as ruas n
	um dia de memória e luta. Nestes tempos de guerra permanente propomos um 1
	º de Maio anarquista, transfeminista, antirracista e anti-imperialista. Um
	 1º de Maio que inclua quem é empurrado para as margens: a comunidade quee
	r, as trabalhadoras migrantes, racializadas e precarizadas, as trabalhador
	as sexuais e as pessoas presas forçadas a trabalhar em condições de escrav
	atura. Porque a sociedade do trabalho é patriarcal, capacitista e extrativ
	ista, valoriza a produtividade acima da vida e transforma corpos em recurs
	o.</strong></p><p><strong>Recuperemos as nossas vidas!</strong></p><p><str
	ong>Manifestação: 1 de maio às 15h no Largo de Camões.</strong></p><p><str
	ong>Manifesto para um 1° de Maio Antiautoritário: </strong><a href="https:
	//tinyurl.com/1maio2026" target="_blank"><strong>https://tinyurl.com/1maio
	2026</strong></a></p>
BEGIN:VALARM
ACTION:DISPLAY
DESCRIPTION:1° de Maio Antiautoritário
TRIGGER:-PT1H
END:VALARM
END:VEVENT
END:VCALENDAR
