BEGIN:VCALENDAR
VERSION:2.0
CALSCALE:GREGORIAN
PRODID:adamgibbons/ics
METHOD:PUBLISH
X-PUBLISHED-TTL:PT1H
BEGIN:VEVENT
UID:7758@eventos.coletivos.org
SUMMARY:25 de Abril na Alternadora com Simbiose\, Alien Squad e NICxRAGE
DTSTAMP:20260424T115257Z
DTSTART:20260425T160000Z
DESCRIPTION:*Alternadora* apresenta:\n\nContinuamos a construir um novo mun
	do... desejamos criar relações e ligações que\nsubvertam a opressão vigent
	e!\n\nAbertura das portas: 17h\n\n-oficina 18.30h\n\n-jantarada 20h\n\n-Co
	ncertos 21.30h\n\n-Musica convívio\n\n\n\nDonativo a partir de 5 paus!\n\n
	Não coloques nas redes sociais! Passa a info a amigues directamente!\n\nEv
	ita trazer cão!\n\nNenhuma tolerância para comportamentos racistas\, machi
	stas\, transfóbicos\,\nagressivos ou de qualquer natureza opressora!\n\n\n
	\nFascismo nunca mais!\n\n\n\nSaúde & Anarquia
URL:https://eventos.coletivos.org/event/25-de-abril-na-alternadora-com-simb
	iose-alien-squad-e-nicxrage
LOCATION:Alternadora - Setúbal
STATUS:CONFIRMED
CATEGORIES:
X-ALT-DESC;FMTTYPE=text/html:<p>*Alternadora* apresenta:</p><p>Continuamos 
	a construir um novo mundo... desejamos criar relações e ligações que subve
	rtam a opressão vigente!</p><p>Abertura das portas: 17h</p><p>-oficina 18.
	30h</p><p>-jantarada 20h</p><p>-Concertos 21.30h</p><p>-Musica convívio </
	p><p></p><p>Donativo a partir de 5 paus!</p><p>Não coloques nas redes soci
	ais! Passa a info a amigues directamente!</p><p>Evita trazer cão!</p><p>Ne
	nhuma tolerância para comportamentos racistas, machistas, transfóbicos, ag
	ressivos ou de qualquer natureza opressora!</p><p></p><p>Fascismo nunca ma
	is!</p><p></p><p>Saúde &amp; Anarquia</p>
BEGIN:VALARM
ACTION:DISPLAY
DESCRIPTION:25 de Abril na Alternadora com Simbiose, Alien Squad e NICxRAGE
TRIGGER:-PT1H
END:VALARM
END:VEVENT
END:VCALENDAR
