BEGIN:VCALENDAR
VERSION:2.0
CALSCALE:GREGORIAN
PRODID:adamgibbons/ics
METHOD:PUBLISH
X-PUBLISHED-TTL:PT1H
BEGIN:VEVENT
UID:7333@eventos.coletivos.org
SUMMARY:Assembleias de resistência e acção da Habita-Stop Despejos
DTSTAMP:20260422T121127Z
DTSTART:20260131T110000Z
DESCRIPTION:⚠️ As assembleias de resistência e acção da Habita-Stop Despejos
	 vão acontecer\nno 1º Sábado de cada mês às 11h da manhã na @sirigaitalisb
	oa\n[https://www.instagram.com/sirigaitalisboa/].\n\nTens problemas de hab
	itação? Não estás sozinha. Junta-te à luta pela habitação!\n\nA casa a que
	m a Habita! ✊\n\n\n
URL:https://eventos.coletivos.org/event/assembleias-de-resistencia-e-accao-
	da-habita-stop-despejos-173
LOCATION:Sirigaita -  Rua dos Anjos\, 12F Lisboa
STATUS:CONFIRMED
CATEGORIES:,Assembleia,direitoahabitacao,Habitação,stop despejos
X-ALT-DESC;FMTTYPE=text/html:<p>⚠️ As assembleias de resistência e acção da 
	Habita-Stop Despejos vão acontecer no 1º Sábado de cada mês às 11h da manh
	ã na <a target="_blank" href="https://www.instagram.com/sirigaitalisboa/">
	@sirigaitalisboa</a>.<br><br>Tens problemas de habitação? Não estás sozinh
	a. Junta-te à luta pela habitação!<br><br>A casa a quem a Habita! ✊</p><p>
	<br></p>
BEGIN:VALARM
ACTION:DISPLAY
DESCRIPTION:Assembleias de resistência e acção da Habita-Stop Despejos
TRIGGER:-PT1H
END:VALARM
END:VEVENT
END:VCALENDAR
