BEGIN:VCALENDAR
VERSION:2.0
CALSCALE:GREGORIAN
PRODID:adamgibbons/ics
METHOD:PUBLISH
X-PUBLISHED-TTL:PT1H
BEGIN:VEVENT
UID:7747@eventos.coletivos.org
SUMMARY:Convocatória de Ideias  - Construir em Comum\, Reaprender a Habitar
DTSTAMP:20260422T143753Z
DTSTART:20260430T080000Z
DTEND:20260430T110000Z
DESCRIPTION:E se voltássemos a sentir e pensar a habitação como bem comum?\
	n\nE se a autoconstrução nos reconectasse ao território\, à comunidade e a
	os saberes\nlocais?\n\nConvidamos-te a participar no Laboratório Popular d
	e Habitação\, apresentando uma\nideia para realizarmos colectivamente!\n\n
	💬 Propõe um projecto\, uma técnica\, um material\, e/ou um tema que traga 
	estas\nquestões à prática colectiva.\n\n💌 Envia-nos a tua ideia em formato
	 livre: texto\, desenho\, áudio ou vídeo até\ndia 30 de abril\, para o e-m
	ail: construiremcomum@protonmail.com\n\nQueremos ativar redes locais de au
	toconstrução\, pensar a habitação como bem\ncomum\, e co-criar espaços viv
	os de troca de saberes.\n\n📯 As propostas seleccionadas serão anunciadas n
	o dia 11 de Maio\, para serem\nrealizadas em 3 oficinas participativas dur
	ante Junho e Julho.\n\n💫 Este laboratório integra a Rede ibérica de labora
	tórios de cultura\ncomunitária e ruralidade (RILCC)\n\nMais informações so
	bre a rede > https://rilcc.net/ [https://rilcc.net/]\n\n👉🏽Partilha! O regul
	amento da convocatória está disponível aqui:\nhttps://bitly.cx/RO7jn [http
	s://bitly.cx/RO7jn]
URL:https://eventos.coletivos.org/event/convocatoria-de-ideias-construir-em
	-comum-reaprender-a-habitar
LOCATION:online - https:// https://www.instagram.com/p/DW8QchjjXmH/?igsh=M2
	RtcXRrazF4cW9t
STATUS:CONFIRMED
CATEGORIES:Autoconstrução,Convocatória de Ideias,Habitação
X-ALT-DESC;FMTTYPE=text/html:<p>E se voltássemos a sentir e pensar a habita
	ção como bem comum? </p><p>E se a autoconstrução nos reconectasse ao terri
	tório, à comunidade e aos saberes locais? </p><p>Convidamos-te a participa
	r no Laboratório Popular de Habitação, apresentando uma ideia para realiza
	rmos colectivamente! </p><p>💬 Propõe um projecto, uma técnica, um material
	, e/ou um tema que traga estas questões à prática colectiva. </p><p>💌 Envi
	a-nos a tua ideia em formato livre: texto, desenho, áudio ou vídeo até dia
	 30 de abril, para o e-mail:  construiremcomum@protonmail.com</p><p>Querem
	os ativar redes locais de autoconstrução, pensar a habitação como bem comu
	m, e co-criar espaços vivos de troca de saberes.</p><p>📯 As propostas sele
	ccionadas serão anunciadas no dia 11 de Maio, para serem realizadas em 3 o
	ficinas participativas durante Junho e Julho.</p><p>💫  Este laboratório in
	tegra a Rede ibérica de laboratórios de cultura comunitária e ruralidade (
	RILCC)</p><p>Mais informações sobre a rede &gt; <a target="_blank" href="h
	ttps://rilcc.net/">https://rilcc.net/</a></p><p>👉🏽Partilha! O regulamento d
	a convocatória está disponível aqui: <a target="_blank" href="https://bitl
	y.cx/RO7jn">https://bitly.cx/RO7jn</a></p>
BEGIN:VALARM
ACTION:DISPLAY
DESCRIPTION:Convocatória de Ideias  - Construir em Comum, Reaprender a Habi
	tar
TRIGGER:-PT1H
END:VALARM
END:VEVENT
END:VCALENDAR
