BEGIN:VCALENDAR
VERSION:2.0
CALSCALE:GREGORIAN
PRODID:adamgibbons/ics
METHOD:PUBLISH
X-PUBLISHED-TTL:PT1H
BEGIN:VEVENT
UID:7749@eventos.coletivos.org
SUMMARY:FP26 - Festa Popular
DTSTAMP:20260423T142342Z
DTSTART:20260424T170000Z
DTEND:20260424T210000Z
DESCRIPTION:Banquete popular e marcha até ao Carmo
URL:https://eventos.coletivos.org/event/fp26-festa-popular
LOCATION:Largo do Intendente - Graça\, Lisboa
STATUS:CONFIRMED
CATEGORIES:festa,Lisboa
X-ALT-DESC;FMTTYPE=text/html:<p>Banquete popular e marcha até ao Carmo</p>
BEGIN:VALARM
ACTION:DISPLAY
DESCRIPTION:FP26 - Festa Popular
TRIGGER:-PT1H
END:VALARM
END:VEVENT
END:VCALENDAR
