BEGIN:VCALENDAR
VERSION:2.0
CALSCALE:GREGORIAN
PRODID:adamgibbons/ics
METHOD:PUBLISH
X-PUBLISHED-TTL:PT1H
BEGIN:VEVENT
UID:7721@eventos.coletivos.org
SUMMARY:|| CINEMANAMULA ||      As Portas Que Abril Abriu  
DTSTAMP:20260425T120035Z
DTSTART:20260414T200000Z
DTEND:20260501T220000Z
URL:https://eventos.coletivos.org/event/cinemanamula-or-as-portas-que-abril
	-abriu
LOCATION:Cooperativa Mula - Largo Santo André\, 3\, 2830-238 Barreiro\, Por
	tugal 
STATUS:CONFIRMED
CATEGORIES:cinemanamula,Cooperativa Mula,Cinema,Barreiro
END:VEVENT
BEGIN:VEVENT
UID:7745@eventos.coletivos.org
SUMMARY:DIY session in Disgraça
DTSTAMP:20260425T120035Z
DTSTART:20260427T170000Z
DTEND:20260427T190000Z
URL:https://eventos.coletivos.org/event/diy-session-in-disgraca-121
LOCATION:Disgraça - Rua Penha de França n 217\, Graça\, Lisboa
STATUS:CONFIRMED
CATEGORIES:,Disgraça,DYI,Oficina
END:VEVENT
BEGIN:VEVENT
UID:7756@eventos.coletivos.org
SUMMARY:Cantina da Disgraçada
DTSTAMP:20260425T120035Z
DTSTART:20260430T140000Z
DTEND:20260430T210000Z
URL:https://eventos.coletivos.org/event/cantina-da-disgracada-186
LOCATION:Disgraça - Rua Penha de França n 217\, Graça\, Lisboa
STATUS:CONFIRMED
CATEGORIES:Cantina,Disgraça,
END:VEVENT
BEGIN:VEVENT
UID:7757@eventos.coletivos.org
SUMMARY:Círculo de Apoio Mútuo entre Migrantes + Portuguese Classes with Mi
	grants
DTSTAMP:20260425T120035Z
DTSTART:20260430T160000Z
DTEND:20260430T180000Z
URL:https://eventos.coletivos.org/event/circulo-de-apoio-mutuo-entre-migran
	tes-portuguese-classes-with-migrants-74
LOCATION:Sirigaita -  Rua dos Anjos\, 12F Lisboa
STATUS:CONFIRMED
CATEGORIES:Apoio Mútuo,Lisboa,Sirigaita,conversa
END:VEVENT
BEGIN:VEVENT
UID:7702@eventos.coletivos.org
SUMMARY:Digital Rights Drinks
DTSTAMP:20260425T120035Z
DTSTART:20260501T173000Z
DTEND:20260501T193000Z
URL:https://eventos.coletivos.org/event/digital-rights-drinks-14
LOCATION:Julio's - Av. Elias Garcia 19B\, Lisboa
STATUS:CONFIRMED
CATEGORIES:Meet-up,Direitos Digitais
END:VEVENT
BEGIN:VEVENT
UID:7705@eventos.coletivos.org
SUMMARY:Digital Independence Day / Dia da Independência Digital
DTSTAMP:20260425T120035Z
DTSTART:20260503T120000Z
DTEND:20260503T150000Z
URL:https://eventos.coletivos.org/event/digital-independence-day-dia-da-ind
	ependencia-digital-3
LOCATION:Rizoma - rua josé estêvão nº4 Lisboa
STATUS:CONFIRMED
CATEGORIES:Workshop,DiaID,DiDay,DIDit,DigitalRights,Direitos Digitais,Linux
	,Lisboa,Oficina,Open Source Software,Rizoma,Software Livre
END:VEVENT
BEGIN:VEVENT
UID:7708@eventos.coletivos.org
SUMMARY:Ensaios Abertos Ritmos de Resistência
DTSTAMP:20260425T120035Z
DTSTART:20260504T173000Z
URL:https://eventos.coletivos.org/event/ensaios-abertos-ritmos-de-resistenc
	ia-13
LOCATION:Disgraça - Rua Penha de França n 217\, Graça\, Lisboa
STATUS:CONFIRMED
CATEGORIES:percussão,musica,Lisboa,ensaio
END:VEVENT
BEGIN:VEVENT
UID:7752@eventos.coletivos.org
SUMMARY:Esperanta kunlernado
DTSTAMP:20260425T120035Z
DTSTART:20260506T163000Z
DTEND:20260506T180000Z
URL:https://eventos.coletivos.org/event/esperanta-kunlernado-5
LOCATION:Casa do Comun - Rua da Rosa 285\, Bairro Alto\, Lisboa
STATUS:CONFIRMED
CATEGORIES:Esperanto,Lisboa,Casa do Comum
END:VEVENT
BEGIN:VEVENT
UID:7596@eventos.coletivos.org
SUMMARY:Concentração Luta pelo Futuro
DTSTAMP:20260425T120035Z
DTSTART:20260515T173000Z
URL:https://eventos.coletivos.org/event/concentracao-luta-pelo-futuro
LOCATION:Antiga sede da CGD\, sede do conselho de ministros - Av João XXI\,
	 Nº63\, Lisboa
STATUS:CONFIRMED
CATEGORIES:Greve Climática Estudantil,Manifestação,Lisboa,ambiente,Climaxim
	o
END:VEVENT
BEGIN:VEVENT
UID:7597@eventos.coletivos.org
SUMMARY:8ª Marcha Nacional pelos Direitos de Todos os Animais
DTSTAMP:20260425T120035Z
DTSTART:20260905T140000Z
URL:https://eventos.coletivos.org/event/8a-marcha-nacional-pelos-direitos-d
	e-todos-os-animais
LOCATION:Campo Pequeno - Campo Pequeno\, Lisboa
STATUS:CONFIRMED
CATEGORIES:Lisboa,Animal,Marcha
END:VEVENT
END:VCALENDAR
