BEGIN:VCALENDAR
VERSION:2.0
CALSCALE:GREGORIAN
PRODID:adamgibbons/ics
METHOD:PUBLISH
X-PUBLISHED-TTL:PT1H
BEGIN:VEVENT
UID:7744@eventos.coletivos.org
SUMMARY:Oficinas “construindo recursos para grupos de apoio mútuo”
DTSTAMP:20260425T123552Z
DTSTART:20260425T170000Z
URL:https://eventos.coletivos.org/event/oficinas-construindo-recursos-para-
	grupos-de-apoio-mutuo-10
LOCATION:CSA A Gralha - Braamcamp\, 74\, Bonfim\, Porto
STATUS:CONFIRMED
CATEGORIES:Oficinas,Apoio Mútuo,Porto
END:VEVENT
BEGIN:VEVENT
UID:7754@eventos.coletivos.org
SUMMARY:Portuguese Language MeetUp
DTSTAMP:20260425T123552Z
DTSTART:20260429T173000Z
DTEND:20260429T190000Z
URL:https://eventos.coletivos.org/event/portuguese-language-meetup-29
LOCATION:Casa da Horta - Rua São Francisco 12A\, Porto
STATUS:CONFIRMED
CATEGORIES:Emigrantes,Porto,Aulas
END:VEVENT
BEGIN:VEVENT
UID:7752@eventos.coletivos.org
SUMMARY:Esperanta kunlernado
DTSTAMP:20260425T123552Z
DTSTART:20260506T163000Z
DTEND:20260506T180000Z
URL:https://eventos.coletivos.org/event/esperanta-kunlernado-5
LOCATION:Casa do Comun - Rua da Rosa 285\, Bairro Alto\, Lisboa
STATUS:CONFIRMED
CATEGORIES:Esperanto,Casa do Comum,Lisboa
END:VEVENT
BEGIN:VEVENT
UID:7760@eventos.coletivos.org
SUMMARY:Respigralha: Grupo de Respiga do CSA A Gralha
DTSTAMP:20260425T123552Z
DTSTART:20260508T153000Z
URL:https://eventos.coletivos.org/event/respigralha-grupo-de-respiga-do-csa
	-a-gralha-132
LOCATION:CSA A Gralha - Braamcamp\, 74\, Bonfim\, Porto
STATUS:CONFIRMED
CATEGORIES:ApoioMútuo,Gralha,Porto,Respiga,Respigralha
END:VEVENT
BEGIN:VEVENT
UID:7761@eventos.coletivos.org
SUMMARY:Massa Crítica - Porto
DTSTAMP:20260425T123552Z
DTSTART:20260529T173000Z
DTEND:20260529T193000Z
URL:https://eventos.coletivos.org/event/massa-critica-porto-23
LOCATION:Praça Marquês do Pombal\, Porto - praça Marquês do Pombal\, Porto
STATUS:CONFIRMED
CATEGORIES:Bicicleta,Bicicletada,critical mass,Massa Crítica,Porto
END:VEVENT
END:VCALENDAR
