BEGIN:VCALENDAR
VERSION:2.0
CALSCALE:GREGORIAN
PRODID:adamgibbons/ics
METHOD:PUBLISH
X-PUBLISHED-TTL:PT1H
BEGIN:VEVENT
UID:7742@eventos.coletivos.org
SUMMARY:Jornadas por um 1° de Maio Anti-autoritário
DTSTAMP:20260421T155121Z
DTSTART:20260426T143000Z
DTEND:20260426T210000Z
URL:https://eventos.coletivos.org/event/jornadas-por-um-1degree-de-maio-ant
	i-autoritario
LOCATION:Largo do Intendente - Graça\, Lisboa
STATUS:CONFIRMED
CATEGORIES:
END:VEVENT
END:VCALENDAR
