BEGIN:VCALENDAR
VERSION:2.0
CALSCALE:GREGORIAN
PRODID:adamgibbons/ics
METHOD:PUBLISH
X-PUBLISHED-TTL:PT1H
BEGIN:VEVENT
UID:7626@eventos.coletivos.org
SUMMARY:Caldas Late Night
DTSTAMP:20260421T185034Z
DTSTART:20260603T230000Z
DTEND:20260605T230000Z
URL:https://eventos.coletivos.org/event/caldas-late-night
LOCATION:Vários Caldas da Rainha - Caldas da Rainha
STATUS:CONFIRMED
CATEGORIES:Caldas da Rainha
END:VEVENT
END:VCALENDAR
