BEGIN:VCALENDAR
VERSION:2.0
CALSCALE:GREGORIAN
PRODID:adamgibbons/ics
METHOD:PUBLISH
X-PUBLISHED-TTL:PT1H
BEGIN:VEVENT
UID:7725@eventos.coletivos.org
SUMMARY:Respigralha: Grupo de Respiga do CSA A Gralha
DTSTAMP:20260421T173319Z
DTSTART:20260424T153000Z
URL:https://eventos.coletivos.org/event/respigralha-grupo-de-respiga-do-csa
	-a-gralha-131
LOCATION:CSA A Gralha - Braamcamp\, 74\, Bonfim\, Porto
STATUS:CONFIRMED
CATEGORIES:ApoioMútuo,Gralha,Porto,Respiga,Respigralha
END:VEVENT
BEGIN:VEVENT
UID:7744@eventos.coletivos.org
SUMMARY:Oficinas “construindo recursos para grupos de apoio mútuo”
DTSTAMP:20260421T173319Z
DTSTART:20260425T170000Z
URL:https://eventos.coletivos.org/event/oficinas-construindo-recursos-para-
	grupos-de-apoio-mutuo-10
LOCATION:CSA A Gralha - Braamcamp\, 74\, Bonfim\, Porto
STATUS:CONFIRMED
CATEGORIES:Apoio Mútuo,Oficinas,Porto
END:VEVENT
END:VCALENDAR
