BEGIN:VCALENDAR
VERSION:2.0
CALSCALE:GREGORIAN
PRODID:adamgibbons/ics
METHOD:PUBLISH
X-PUBLISHED-TTL:PT1H
BEGIN:VEVENT
UID:7748@eventos.coletivos.org
SUMMARY:manif do 25 de abril - Bloco queer de corpos dissidentes antifascis
	tas
DTSTAMP:20260422T180105Z
DTSTART:20260425T133000Z
URL:https://eventos.coletivos.org/event/manif-do-25-de-abril-bloco-queer-de
	-corpos-dissidentes-antifascistas
LOCATION:C.C.Stop - C.C.Stop
STATUS:CONFIRMED
CATEGORIES:
END:VEVENT
END:VCALENDAR
